BEGIN:VCALENDAR
VERSION:2.0
PRODID:-//wp-events-plugin.com//7.2.3.1//EN
TZID:Europe/Amsterdam
X-WR-TIMEZONE:Europe/Amsterdam
BEGIN:VEVENT
UID:1-423@monumentengemeenten.nl
DTSTART;TZID=Europe/Amsterdam:20260511T000000
DTEND;TZID=Europe/Amsterdam:20260513T000000
DTSTAMP:20260422T103436Z
URL:https://monumentengemeenten.nl/events/actiedagen-weerbaar-erfgoed-2026
 /
SUMMARY:Actiedagen Weerbaar Erfgoed 2026
DESCRIPTION:Voor de tweede maal worden op 11\, 12 en 13 mei 2026 de landeli
 jke Actiedagen Weerbaar Erfgoed georganiseerd door de Nederlandse UNESCO C
 ommissie\, Blue Shield Nederland en Cultural Emergency Response. De Actied
 ag Weerbaar Erfgoed is een jaarlijks initiatief dat zich richt op het vers
 terken van de weerbaarheid van cultureel erfgoed binnen het Koninkrijk der
  Nederlanden. In deze week vinden door heel Nederland diverse workshops\, 
 webinars\, oefeningen en andere activiteiten plaats. Samen bieden zij een 
 breed en praktisch overzicht van manieren om erfgoed beter te beschermen e
 n organisaties weerbaarder te maken\nDe online kick-off van deze week is o
 p maandag 11 mei om 10.00 uur met openingswoorden van de Minister Onderwij
 s Cultuur en Wetenschap\, voorzitter Veiligheidsberaad Hein van der Loo en
  een voordracht van auteur Bregje Hofstede. Kijk via deze livestreamlink:
  https://youtube.com/live/Yy6ALV-_O7g?feature=share\nHet volledige progra
 mma voor de week is te vinden op https://www.unesco.nl/weerbaarerfgoed.\
 nAanmelden van activiteiten kan nog via weerbaarerfgoed@unesco.nl
END:VEVENT
BEGIN:VTIMEZONE
TZID:Europe/Amsterdam
X-LIC-LOCATION:Europe/Amsterdam
BEGIN:DAYLIGHT
DTSTART:20260329T030000
TZOFFSETFROM:+0100
TZOFFSETTO:+0200
TZNAME:CEST
END:DAYLIGHT
END:VTIMEZONE
END:VCALENDAR