BEGIN:VCALENDAR
VERSION:2.0
PRODID:-//wp-events-plugin.com//7.2.3.1//EN
TZID:Europe/Amsterdam
X-WR-TIMEZONE:Europe/Amsterdam
BEGIN:VEVENT
UID:1-316@monumentengemeenten.nl
DTSTART;TZID=Europe/Amsterdam:20240405T100000
DTEND;TZID=Europe/Amsterdam:20240405T113000
DTSTAMP:20231120T142339Z
URL:https://monumentengemeenten.nl/events/bestuurlijk-platform-erfgoedgeme
 enten-digitaal/
SUMMARY:Bestuurlijk Platform Erfgoedgemeenten
DESCRIPTION:Vergadering vindt live plaats in 's-Hertogenbosch\, locatie wor
 dt nog bekendgemaakt bij de uitnodiging
LOCATION:Den Bosch\, volgt\, Den Bosch\, Nederland
X-APPLE-STRUCTURED-LOCATION;VALUE=URI;X-ADDRESS=volgt\, Den Bosch\, Nederla
 nd;X-APPLE-RADIUS=100;X-TITLE=Den Bosch:geo:0,0
END:VEVENT
BEGIN:VTIMEZONE
TZID:Europe/Amsterdam
X-LIC-LOCATION:Europe/Amsterdam
BEGIN:DAYLIGHT
DTSTART:20240331T030000
TZOFFSETFROM:+0100
TZOFFSETTO:+0200
TZNAME:CEST
END:DAYLIGHT
END:VTIMEZONE
END:VCALENDAR