BEGIN:VCALENDAR
VERSION:2.0
PRODID:-//wp-events-plugin.com//7.2.3.1//EN
TZID:Europe/Amsterdam
X-WR-TIMEZONE:Europe/Amsterdam
BEGIN:VEVENT
UID:1-337@monumentengemeenten.nl
DTSTART;TZID=Europe/Amsterdam:20231207T133000
DTEND;TZID=Europe/Amsterdam:20231207T163000
DTSTAMP:20231120T141507Z
URL:https://monumentengemeenten.nl/events/bijeenkomst-erm-over-nieuwe-omge
 vingswet-en-wkb/
SUMMARY:Bijeenkomst ERM over nieuwe Omgevingswet en Wkb
DESCRIPTION:In de wet- en regelgeving op het gebied van de bouw zijn grote 
 veranderingen aanstaande. Volgend jaar treedt de Omgevingswet en de eerste
  fase van de Wet kwaliteitsborging voor het bouwen (Wkb) in werking. ERM o
 rganiseert op 7 december in Amersfoort een middagbijeenkomst (13.30 - 16.3
 0 uur) hierover met expert Gert-Jan van Leeuwen.\n\nWanneer de nieuwe wetg
 eving van kracht wordt\, is nog even onzeker doordat de Eerste Kamer recen
 t nog om uitstel heeft gevraagd\, maar dat het volgend jaar wordt\, is vri
 jwel zeker.\n\nHoewel monumenten in die eerste fase nog buiten schot blijv
 en\, raken privaatrechtelijke veranderingen waarschijnlijk toch meteen ook
  de aannemers in de restauratiesector. En bij nieuwbouw in beschermde stad
 s- en dorpsgezichten kunnen aannemers en ook gemeenten\, architecten en ad
 viseurs nu al te maken krijgen met het stelsel van kwaliteitsborging. Wat 
 betekent dit voor de monumentensector in brede zin? En hoe kunnen we ons h
 et beste voorbereiden op fase 2 van de Wkb die staat gepland voor circa 1-
 1-2029?\n\nGert-Jan van Leeuwen neemt de aanwezigen mee in de nieuwste ont
 wikkelingen. Daarnaast zal er nagedacht worden over welke effecten de wetg
 eving heeft op het werken met de ERM-richtlijnen en de effecten op het geb
 ied van restauratie\, vergunningverlening en het toezicht op het werk aan 
 monumenten. Ook de nieuwste politieke ontwikkelingen worden besproken.\n\n
 Van Leeuwen vertelde eerder in onze nieuwsbrief dat de nieuwe wetgeving vo
 lgens hem ook kansen biedt aan de ERM-achterban. “Als je dit goed implem
 enteert\, dan hebben gecertifieerde bedrijven een voorsprong in de opdrach
 t”\, zo vertelde hij in mei. Lees hier het hele artikel.\n\nDe bijeenk
 omst is in het bijzonder bedoeld voor ambtenaren\, ondernemers en uitvoere
 nde partijen die in de praktijk met de nieuwe wetgeving te maken krijgen. 
 Er is plek voor een beperkt aantal mensen\, een selectie zal daarom mogeli
 jk plaatsvinden op basis van achtergrond.\n\nU kunt zich aanmelden via se
 cretariaat@stichtingerm.nl. Graag erbij vermelden dat het om de bijeenkoms
 t nieuwe Omgevingswet en Wkb op 7 december gaat.
LOCATION:Stichting ERM\, Utrechtseweg 12\, Amersfoort\,  3811 NB \, Nederla
 nd
X-APPLE-STRUCTURED-LOCATION;VALUE=URI;X-ADDRESS=Utrechtseweg 12\, Amersfoor
 t\,  3811 NB \, Nederland;X-APPLE-RADIUS=100;X-TITLE=Stichting ERM:geo:0,0
END:VEVENT
BEGIN:VTIMEZONE
TZID:Europe/Amsterdam
X-LIC-LOCATION:Europe/Amsterdam
BEGIN:STANDARD
DTSTART:20231029T020000
TZOFFSETFROM:+0200
TZOFFSETTO:+0100
TZNAME:CET
END:STANDARD
END:VTIMEZONE
END:VCALENDAR