BEGIN:VCALENDAR
VERSION:2.0
PRODID:-//wp-events-plugin.com//7.2.3.1//EN
TZID:Europe/Amsterdam
X-WR-TIMEZONE:Europe/Amsterdam
BEGIN:VEVENT
UID:1-273@monumentengemeenten.nl
DTSTART;TZID=Europe/Amsterdam:20220525T000000
DTEND;TZID=Europe/Amsterdam:20220622T000000
DTSTAMP:20220502T104826Z
URL:https://monumentengemeenten.nl/events/erfgoedacademie-de-gebiedsbiogra
 fie/
SUMMARY:ErfgoedAcademie: De Gebiedsbiografie
DESCRIPTION:\n\n\nDeze cursus bestaat uit vier interactieve bijeenkomsten: 
 25 mei\, 1 en 8 juni online en 22 juni op locatie. \n\nNederland staat aa
 n de vooravond van grote veranderingen. Urgente opgaven op het gebied van 
 klimaatadaptatie\, energietransitie\, woningbouw\, infrastructuur en duurz
 ame landbouw zullen hun neerslag krijgen in de leefomgeving en zo van ingr
 ijpende invloed zijn op de Nederlandse landschappen.\nLandschap in ontwikk
 eling\nEen landschap is geen onbeschreven blad\, maar een unieke leefomgev
 ing met een eigen geschiedenis\, eigen kwaliteiten en betekenissen. Elk la
 ndschap\, groen of gebouwd\, is ons als erfgoed overgeleverd vanuit het ve
 rleden – het resultaat van een lange historie van interactie tussen mens
 en en hun leefwereld. Maar een landschap staat nooit stil\; in de historis
 che ontwikkeling worden steeds weer nieuwe stappen gezet\, ook in deze tij
 d. De uitdaging is om de grote ruimtelijke opgaven van vandaag met kwalite
 it vorm te geven\, voortbouwend op het verleden en met de blik op de toeko
 mst. Om dat op een goede manier te kunnen doen\, moet je een landschap eer
 st doorgronden door zijn ontwikkelingsgeschiedenis en erfgoed in kaart te 
 brengen.\nGebiedsbiografie en omgevingsvisie\nDe nieuwe Omgevingswet treed
 t naar verwachting medio 2022 in werking. Een van de uitgangspunten (en ve
 rplichtingen) van de nieuwe wet is\, dat gemeenten en provincies hun omgev
 ingsbeleid baseren op een integrale omgevingsvisie waarin zij de hoofdlijn
 en en belangrijkste waarden van de leefomgeving benoemen. Deze omgevingsvi
 sie moet in samenspraak met inwoners worden opgesteld.\n\nZowel vanuit het
  perspectief van landschap en erfgoed als van ruimtelijk beleid is de aanp
 ak van de gebiedsbiografie bij uitstek geschikt om de fysieke en immateri
 ële historische karakteristieken en waarden van een landschap te onderzoe
 ken\, niet sectoraal en statisch maar in onderlinge wisselwerking. Daarnaa
 st biedt de methode van de landschapsbiografie goede handvatten om vorm en
  inhoud te geven aan burgerparticipatie in het kader van de nieuwe Omgevin
 gswet.\n\nDoor middel van een gebiedsbiografie kunnen de specifieke kwalit
 eiten en waarden van een landschap\, in hun onderlinge samenhang\, op  he
 t juiste niveau worden ingebracht in een omgevingsvisie. En in bredere zin
 : in ontwikkelingsgericht beleid en ontwerp.\n\nTijdens deze cursus maakt 
 u uitgebreid kennis met de achtergrond\, methoden en mogelijkheden van de 
 gebiedsbiografie en met participatie als instrument bij het opstellen van 
 een gebiedsbiografie. In eerste drie (online) bijeenkomsten komen theorie\
 , praktijkvoorbeelden en -oefeningen aan bod. De vierde bijeenkomst is een
  workshop (op locatie)\, waarin u actief aan de slag gaat met bronnen en m
 et het opzetten van een biografie en participatieplan.\nNa het volgen van 
 deze cursus \n\n 	Hebt u oog voor de rol die erfgoed kan spelen bij ruimt
 elijke opgaven en ontwikkelingen\;\n 	Kent u de achtergrond en methoden va
 n gebiedsbiografie\;\n 	Kunt u de gebiedsbiografie verbinden met en inbren
 gen in omgevingsbeleid- en ontwikkeling\;\n 	Hebt u oog voor het belang va
 n burgerparticipatie bij de totstandkoming van een gebiedsbiografie en kun
 t u relevante doelgroepen en participatiemethodes benoemen\;\n 	Kunt u het
  processchema gebiedsbiografie van de RCE toepassen op een eigen of fictie
 ve casus\;\n 	Kunt u een participatieplan opzetten bij een eigen of fictie
 ve casus\;\n 	Kunt u het processchema en het participatieplan vertalen in 
 een uitvraag of projectvoorstel.\n\nVoor wie? \nDeze cursus is bestemd vo
 or professionals in de werkvelden erfgoed en archeologie\, bodem\, omgevin
 gsbeleid \, ruimtelijke ontwikkeling en ontwerp\, bij onder meer gemeenten
  en provincies\, omgevingsdiensten\, waterschappen en rijksoverheid. \n\n
 Kom samen met een collega\nWe bieden de cursisten van deze cursus aan om e
 en collega mee te laten doen met de cursus\, geheel gratis. Wil je van di
 t aanbod gebruik maken\, mail dan naam en mailadres van deze collega z.s.m
 . door aan info@erfgoedacademie.nl dan ontvangt deze collega alle benodi
 gde informatie.\nProgramma \nBijeenkomsten: \n\n1. GEBIEDSBIOGRAFIE DE T
 HEORIE\n(woensdag 25 mei van 10.00 – 12.00 uur. Online via Zoom) \n\n2
 . GEBIEDSBIOGRAFIE EN PARTICIPATIE\n(woensdag 1 juni van 10.00 – 12.00 u
 ur. Online via Zoom) \n\n3. GEBIEDSBIOGRAFIE IN DE PRAKTIJK\n(woensdag 8 
 juni van 10.00 – 12.00 uur. Online via Zoom) \n\n4. WORKSHOP: CASUS GEB
 IEDSBIOGRAFIE EN PARTICIPATIEPLAN\n(woensdag 22 juni van 09.30 – 13.00 u
 ur\, incl lunch en met aansluitend een excursie in het gebied (Akoesticum\
 , Johan Willem Friso Kazerne\, Ede)\nWanneer? \nDeze cursus bestaat uit d
 rie interactieve online bijeenkomsten op 25 mei op locatie\, 1 en 8 juni o
 nline en 22 juni op locatie.\nTijdsinvestering \nNaast de cursusbijeenkom
 sten vraagt deze cursus ook een tijdsinvestering buiten de bijeenkomsten. 
 Houdt rekening met een tijdsbeslag van 8-12 uur voor het bestuderen van re
 levante achtergrondinformatie en voor voorbereiding van opdrachten en work
 shop.\nKosten\nDe kosten voor deze cursus bedragen € 425\,00 (excl. 21% 
 btw) per persoon. Maximaal aantal deelnemers is 20.\nPraktisch \nVoor onz
 e online bijeenkomsten maken we gebruik van het platform Zoom. U krijgt vo
 oraf een link met een korte handleiding toegestuurd om via dit platform de
 el te nemen.\nTot slot!\nIn de cursussen van de ErfgoedAcademie zet je the
 orie om naar de praktijk. Je krijgt concrete tips en informatie waar je me
 teen mee aan de slag kunt. En je leert hoe je deze kennis in je eigen werk
 praktijk toe kunt passen. Dit kost tijd\, maar we weten dat je met onze cu
 rsussen in je werk ook echt vooruit komt.\n\nJe werkt samen met mensen uit
  andere organisaties. Zij en je docent vormen een waardevol netwerk\, waar
  je ook na je cursus op terug kunt vallen\, wanneer je ergens tegenaan loo
 pt. Of met wie je een inspirerend voorbeeld wilt delen.\nExperts \nonder 
 anderen:\n\ndrs. Edwin Raap\, sr. adviseur/onderzoeker\, RCE\ndr. Jeroen 
 Zomer\, specialist landschapsgeschiedenis\, RCE\nKarin Stadhouders MA\, e
 rfgoedonderzoeker en -docent\, Erfgoedacademie en Centre for Global Herita
 ge and Development\nDocent\nKarin Stadhouders MA\n\n\nDirect inschrijven\n
 \n\n\n\n\n\n
END:VEVENT
BEGIN:VTIMEZONE
TZID:Europe/Amsterdam
X-LIC-LOCATION:Europe/Amsterdam
BEGIN:DAYLIGHT
DTSTART:20220327T030000
TZOFFSETFROM:+0100
TZOFFSETTO:+0200
TZNAME:CEST
END:DAYLIGHT
END:VTIMEZONE
END:VCALENDAR