BEGIN:VCALENDAR
VERSION:2.0
PRODID:-//wp-events-plugin.com//7.2.3.1//EN
TZID:Europe/Amsterdam
X-WR-TIMEZONE:Europe/Amsterdam
BEGIN:VEVENT
UID:1-206@monumentengemeenten.nl
DTSTART;TZID=Europe/Amsterdam:20210202T140000
DTEND;TZID=Europe/Amsterdam:20210202T160000
DTSTAMP:20210122T130810Z
URL:https://monumentengemeenten.nl/events/erfgoedhuis-zuid-holland-webinar
 -omgevingswet/
SUMMARY:Erfgoedhuis Zuid-Holland: Webinar Omgevingswet
DESCRIPTION:Op 2 februari organiseren de Rijksdienst voor het Cultureel Erf
 goed en de provinciale steunpunten cultureel erfgoed van de provincies Noo
 rd-Holland\, Utrecht en Zuid-Holland een webinar over de Omgevingswet. Wij
  nodigen je van harte uit hierbij aanwezig te zijn.\n\nHet webinar is verv
 angend voor de fysieke bijeenkomst die in 2020 vanwege het coronavirus nie
 t plaats kon vinden. Het is de derde bijeenkomst op rij. In 2018 en 2019 v
 onden er al bijeenkomsten over de Omgevingswet plaats in ons kantoor in De
 lft.\n\nIn dit webinar wordt er aandacht besteed aan de zaken die in 2021 
 geregeld dienen te worden ter voorbereiding om de inwerkingtreding van de 
 Omgevingswet op 2022. Je wordt op de hoogte gebracht van de stand van zake
 n en bijgepraat over onderwerpen zoals het tijdelijk omgevingsplan\, de Br
 uidsschat en de gemeentelijke adviescommissies. Het webinar zal online pla
 atsvinden. Via de chatfunctie is er gelegenheid om vragen te stellen. Hier
 op wordt zo mogelijk tijdens de sessie ingegaan.\nDatum: 02 februari 202
 1\nTijd: 14:00 - 16:00 uur (digitale inloop vanaf 13:30 uur)\nAanmelden:
  Verplicht\, via onze website\n\nLet op: Het webinar is uitsluitend bed
 oeld voor gemeenteambtenaren. Andere doelgroepen kunnen zich hiervoor niet
  aanmelden.
END:VEVENT
BEGIN:VTIMEZONE
TZID:Europe/Amsterdam
X-LIC-LOCATION:Europe/Amsterdam
BEGIN:STANDARD
DTSTART:20201025T020000
TZOFFSETFROM:+0200
TZOFFSETTO:+0100
TZNAME:CET
END:STANDARD
END:VTIMEZONE
END:VCALENDAR