BEGIN:VCALENDAR
VERSION:2.0
PRODID:-//wp-events-plugin.com//7.2.3.1//EN
TZID:Europe/Amsterdam
X-WR-TIMEZONE:Europe/Amsterdam
BEGIN:VEVENT
UID:1-304@monumentengemeenten.nl
DTSTART;TZID=Europe/Amsterdam:20231117T093000
DTEND;TZID=Europe/Amsterdam:20231117T163000
DTSTAMP:20231108T112811Z
URL:https://monumentengemeenten.nl/events/fgm-bijeenkomst-2/
SUMMARY:FGM Federatiedag
DESCRIPTION:Programma\n\n9.30 uur      Inloop met koffie/ thee / lekker
 s\n\n10.15 uur    Welkom door Karin Westerink\, gemeente Amsterdam\, voo
 rzitter\n\nVoorbeeldregels voor cultureel erfgoed in het Omgevingsplan\n\n
 Fenna van Hout\, VNG\, en Ilse Rijneveld\, gemeente Den Haag\n\nGevolgen v
 an klimaatverandering voor het erfgoed\n\nPresentatie Platform Klimaat en 
 Erfgoed\, Vera Kuijpers (gemeente Utrecht) en  Gertjan de Boer (RCE)\; di
 scussie met Flip ten Cate\, vm. directeur Federatie Ruimtelijke Kwaliteit 
 en Thijs Weststeijn\, hoogleraar Kunstgeschiedenis Universiteit Utrecht\n\
 nActualiteiten van het programma FARO\n\nMachteld Linssen\, Rijksdienst vo
 or het Cultureel Erfgoed\n\nToegankelijkheid van erfgoed voor mensen met e
 en beperking\n\nHenk Jansen\, gemeente Utrecht\n\nRondje werkgroepen\, o.a
 . nieuwe werkgroep agrarisch erfgoed\n\nToelichting door Bernard Stikfort\
 , gemeente Westerveld\n\n12.30 uur    Bijpraten tijdens de lunch\n\n13.
 30 uur    Programma religieus erfgoed\, opbrengst kerkenvisies en het v
 ervolg\n\n                   Judith Toebast\, RCE en Ali
 ce Gut\, gemeente West-Betuwe\n\nTweede rondje werkgroepen\n\nAlgemene Led
 envergadering FGM\n\n15.30 -16.30         Napraten met hapjes en dr
 ankjes\n\nAanmelden\nVoor de catering moeten we vooraf het aantal deelneme
 rs doorgeven.\nGraag ontvangen we zo snel mogelijk\, uiterlijk donderdag 8
  november de bevestiging met een antwoord op de mail die iedereen gehad he
 eft.
LOCATION:De Observant\, Stadhuisplein 7\, Amersfoort \, Nederland
X-APPLE-STRUCTURED-LOCATION;VALUE=URI;X-ADDRESS=Stadhuisplein 7\, Amersfoor
 t \, Nederland;X-APPLE-RADIUS=100;X-TITLE=De Observant:geo:0,0
END:VEVENT
BEGIN:VTIMEZONE
TZID:Europe/Amsterdam
X-LIC-LOCATION:Europe/Amsterdam
BEGIN:STANDARD
DTSTART:20231029T020000
TZOFFSETFROM:+0200
TZOFFSETTO:+0100
TZNAME:CET
END:STANDARD
END:VTIMEZONE
END:VCALENDAR