BEGIN:VCALENDAR
VERSION:2.0
PRODID:-//wp-events-plugin.com//7.2.3.1//EN
TZID:Europe/Amsterdam
X-WR-TIMEZONE:Europe/Amsterdam
BEGIN:VEVENT
UID:1-268@monumentengemeenten.nl
DTSTART;TZID=Europe/Amsterdam;VALUE=DATE:20220610
DTEND;TZID=Europe/Amsterdam;VALUE=DATE:20220611
DTSTAMP:20220523T132206Z
URL:https://monumentengemeenten.nl/events/fgm-bijeenkomst/
SUMMARY:FGM-bijeenkomst
DESCRIPTION:Op vrijdag 10 juni hopen we velen van jullie te ontmoeten op 
 onze Federatiedag in de theaterzaal van het voormalige postkantoor\, nu
  bibliotheek van Utrecht\, Neude 11. Je kunt je tot 30 mei opgeven via
  monumentengemeenten@gmail.com (let op: het mailadres federati@utrecht.
 nl is momenteel buiten gebruik!). Graag in je mail aangeven of je dieetwe
 nsen hebt en -als je er niet de hele dag bij kunt zijn- welk deel van de
  dag je erbij bent\, zodat we hiermee rekening kunnen houden met de cate
 ring. Zie voor meer info over de locatie: Nieuws en activiteiten in de Bi
 bliotheek Neude (bibliotheekutrecht.nl)\nWe hebben een programma samenge
 steld met (uiteraard) veel inhoud maar vooral ook veel ruimte om met elkaa
 r bij te praten:\nPROGRAMMA\n\n\n 	09.30 uur: inloop\n 	10.15 uur: start p
 rogramma met welkom (terug) door onze voorzitter Karin Westerink en presen
 taties over:\n\n 	verduurzaming monumenten\, door Martijn Andela (gemeente
  Rheden)\n 	toezicht en handhaving\, door Anne van Wijngaarden (Erfgoedins
 pectie)\n 	erfgoedbiotoop door Martin van Bleek (Gelders Genootschap)\n\n\
 n\ndaarnaast besteden we kort aandacht aan:\n\n 	het nieuwe reglement (dit
  wordt vooraf toegezonden) met het verzoek om dit goed te keuren\n 	kennis
 making met Fenna van Hout\, sinds kort verantwoordelijk voor cultuur en er
 fgoed bij de VNG\n 	FARO en diversiteit\, door Alma Hoekstra en Mina Etema
 d\n 	actualiteiten NRF\n 	stand van zaken voorbeeldregels omgevingsplan RC
 E\n 	registratie erfgoedstandaard\n\n&nbsp\;\n\n 	12.30 uur: lunch\n 	13.3
 0 uur: themawandelingen verzorgd door de collega’s uit Utrecht\n 	15.30 
 uur: borrel in de bibliotheek\n 	17.00 uur: afsluiting\n\n
END:VEVENT
BEGIN:VTIMEZONE
TZID:Europe/Amsterdam
X-LIC-LOCATION:Europe/Amsterdam
BEGIN:DAYLIGHT
DTSTART:20220327T030000
TZOFFSETFROM:+0100
TZOFFSETTO:+0200
TZNAME:CEST
END:DAYLIGHT
END:VTIMEZONE
END:VCALENDAR