BEGIN:VCALENDAR
VERSION:2.0
PRODID:-//wp-events-plugin.com//7.2.3.1//EN
TZID:Europe/Amsterdam
X-WR-TIMEZONE:Europe/Amsterdam
BEGIN:VEVENT
UID:1-342@monumentengemeenten.nl
DTSTART;TZID=Europe/Amsterdam:20240315T100000
DTEND;TZID=Europe/Amsterdam:20240315T164500
DTSTAMP:20240212T134213Z
URL:https://monumentengemeenten.nl/events/interieurplatform-samen-sterker-
 interieur-gerelateerde-stichtingen-en-verenigingen/
SUMMARY:Interieurplatform - Samen sterker: Interieur-gerelateerde stichting
 en en verenigingen
DESCRIPTION:Op 15 maart 2024 organiseert de Rijksdienst voor het Cultureel 
 Erfgoed weer een Interieurplatform.\n\nTijdens de bijeenkomst gaan ruim 15
  sprekers van verschillende stichtingen en verenigingen ingaan op uiteenlo
 pende vragen. Hoe dragen zij bij aan belangstelling voor monumentale inter
 ieurs of de instandhouding daarvan? Wat voor soort activiteiten organisere
 n ze? Wat is hun bestaansrecht? Dit zal worden toegelicht aan de hand van 
 casuïstiek.\nAanmelden\nDe bijeenkomst is gratis\, maar aanmelden is wel 
 nodig. U ontvangt een bevestiging per mail over uw wijze van deelname. Bew
 aar deze bevestiging daarom goed. Hier kunt u zich aanmelden.\n\nHet Progr
 amma\n10.00 Inloop aan het Smallepad 5\, Amersfoort\n10.20 Digitale inloop
 \n10.30 Welkom en inleiding door de dagvoorzitter\n\nSprekers:\n\nMachteld
  Linssen\, programmaleider Faro\, Rijksdienst voor het Cultureel Erfgoed\n
 Valentijn Carbo\, voorzitter\, Stichting Het Nederlandse Interieur\nKarel 
 Loeff\, directeur\, Erfgoedvereniging Heemschut\nWalther Schoonenberg\, se
 cretaris\, Vereniging Vrienden van de Amsterdamse Binnenstad\nIda van Zijl
 \, voorzitter\, Vereniging Rietveldhuizen-VVE\nYvonne Ploum\, bestuurslid\
 , ICOM-DEMHIST (internationaal comité voor historische huis-musea)\nNatas
 cha Drabbe\, oprichter\, Stichting Iconic Houses\n\n12.15 Lunchpauze en be
 zoek infomarkt\n13.30 Start middagprogramma door dagvoorzitter\n\nSprekers
 :\n\nSaskia Beekmans\, bestuurslid\, Beroepsvereniging Nederlandse Interie
 urarchitecten\nStefanie Weser\, bestuurslid\, Vereniging van Architecten W
 erkzaam in de Restauratie\nFeyoena Grovestins\, secretaris\, Stichting Bou
 whistorie Nederland\nMarlieke Damstra\, projectleider\, Stichting Historis
 che Interieurs\nAp Timmermans\, voorzitter\, Stichting Interieurs in Frysl
 ân\nRichard Harmanni\, voorzitter\, Stichting Historische Behangsels en W
 anddecoraties\n\nSpeakerscorner\n\n15.00 Pauze en bezoek infomarkt\n15.45 
 Sprekers:\n\nHans Vlaardingerbroek\, beschermheer\, Het Neerlandsch Stucgi
 lde\nKarin van Paassen\, voorzitter\, Stichting Textielcommissie Nederland
 \nMachteld Jacques\, bestuurslid\, Stichting Ebenist\nRemco Ockhuijsen\, v
 oorzitter\, Vereniging Restauratoren Nederland\n\nPaneldiscussie\nAfsluiti
 ng door dagvoorzitter\n\n16.45 Start netwerkborrel
LOCATION:Rijksdienst voor het Cultureel Erfgoed\, Smallepad 5\, Amersfoort\
 , Utrecht\, 3811 MG\, Nederland
X-APPLE-STRUCTURED-LOCATION;VALUE=URI;X-ADDRESS=Smallepad 5\, Amersfoort\, 
 Utrecht\, 3811 MG\, Nederland;X-APPLE-RADIUS=100;X-TITLE=Rijksdienst voor 
 het Cultureel Erfgoed:geo:0,0
END:VEVENT
BEGIN:VTIMEZONE
TZID:Europe/Amsterdam
X-LIC-LOCATION:Europe/Amsterdam
BEGIN:STANDARD
DTSTART:20231029T020000
TZOFFSETFROM:+0200
TZOFFSETTO:+0100
TZNAME:CET
END:STANDARD
END:VTIMEZONE
END:VCALENDAR