BEGIN:VCALENDAR
VERSION:2.0
PRODID:-//wp-events-plugin.com//7.2.3.1//EN
TZID:Europe/Amsterdam
X-WR-TIMEZONE:Europe/Amsterdam
BEGIN:VEVENT
UID:1-359@monumentengemeenten.nl
DTSTART;TZID=Europe/Amsterdam:20241011T130000
DTEND;TZID=Europe/Amsterdam:20241011T170000
DTSTAMP:20240904T161744Z
URL:https://monumentengemeenten.nl/events/kleurhistorisch-platform-kalk-re
 vival/
SUMMARY:Kleurhistorisch platform - Kalk revival
DESCRIPTION:\n\n\nTijdens deze middag wordt er gekeken naar de hernieuwde i
 nteresse van de erfgoedwereld voor kalk. Nieuw is kalk allerminst\, kijk m
 aar naar de vele voorbeelden die al eeuwen lang de tand des tijds hebben d
 oorstaan. Als mortel\, pleister en drager van kleur. Toch zijn we de kenni
 s over de samenstelling\, eigenschappen en gebruik ervan grotendeels verle
 erd.\n\n\n\nDe afgelopen decennia is er een kalk-beweging op gang gekomen 
 en komt de toepassing van kalk steeds vaker voor in restauraties. Maar dat
  zorgt ook voor veel vragen\, met name over de verschillende methodes. Wer
 den de mortels\, pleisters en verf wel gemaakt zoals wij altijd dachten? H
 oe zit het met de methode van ‘Hot Mixed Lime’ en waarom zijn we hydra
 ulische kalk gaan gebruiken? Kortom tijd voor de kalk revival!\n\nVoor wi
 e\n\nDeze keer is het Kleurhistorisch platform interessant voor iedereen d
 ie in de restauratie werkt of adviseert en daarbij te maken heeft met mort
 els en pleisterwerk: van bouwkundige\, architect en aannemer tot stucadoor
 \, metselaar en voeger\, naast gemeentemedewerkers\, bouwhistorici\, resta
 uratoren en schilders.\n\nDe bijeenkomst is gratis\, maar aanmelden is wel
  nodig.\n\nProgramma en aanmelden
LOCATION:Rijksdienst voor het Cultureel Erfgoed\, Smallepad 5\, Amersfoort\
 , Utrecht\, 3811 MG\, Nederland
X-APPLE-STRUCTURED-LOCATION;VALUE=URI;X-ADDRESS=Smallepad 5\, Amersfoort\, 
 Utrecht\, 3811 MG\, Nederland;X-APPLE-RADIUS=100;X-TITLE=Rijksdienst voor 
 het Cultureel Erfgoed:geo:0,0
END:VEVENT
BEGIN:VTIMEZONE
TZID:Europe/Amsterdam
X-LIC-LOCATION:Europe/Amsterdam
BEGIN:DAYLIGHT
DTSTART:20240331T030000
TZOFFSETFROM:+0100
TZOFFSETTO:+0200
TZNAME:CEST
END:DAYLIGHT
END:VTIMEZONE
END:VCALENDAR