BEGIN:VCALENDAR
VERSION:2.0
PRODID:-//wp-events-plugin.com//7.2.3.1//EN
TZID:Europe/Amsterdam
X-WR-TIMEZONE:Europe/Amsterdam
BEGIN:VEVENT
UID:1-311@monumentengemeenten.nl
DTSTART;TZID=Europe/Amsterdam:20230329T150000
DTEND;TZID=Europe/Amsterdam:20230329T173000
DTSTAMP:20230224T083608Z
URL:https://monumentengemeenten.nl/events/platform-klimaat-en-erfgoed-over
 -langetermijn-effecten-van-klimaatverandering-op-erfgoed/
SUMMARY:Platform klimaat en erfgoed over langetermijn-effecten van klimaatv
 erandering op erfgoed
DESCRIPTION:Sprekers en programma\nHet doel van deze middag is om inzichtel
 ijker te maken wat klimaatverandering betekent voor erfgoed en hoe we hier
 mee om kunnen gaan. De volgende inspirerende sprekers staan op het progra
 mma:\nRutger van der Brugge (Deltares)\nWe beginnen de middag met een wete
 nschappelijke analyse. Rutger van der Brugge presenteert een ruimtelijke v
 ertaling van de klimaatscenario’s van het KNMI voor Nederland. \nBestuu
 r platform Klimaat en Erfgoed\nDeze scenario’s hebben impact op lange te
 rmijn. Maar hoe zit het op korte termijn? Welke gevolgen constateren we nu
  al? Het platformbestuur geeft voorbeeld en gaat in op de (on)mogelijkhede
 n voor behoud.\nJannemarie de Jonge (Rijksadviseur Fysieke Leefomgeving\, 
 College van Rijksadviseurs)\nVervolgens neemt Jannemarie de Jonge ons mee 
 in haar kijk op de toekomst voor erfgoed. Als de scenario’s werkelijkhei
 d worden\, wat betekent dit dan voor ons als samenleving? Als we erfgoed v
 erliezen\, hoe gaan we dan om met dit rouwproces?\nNetwerkborrel\nEén van
  de doelstelling van het platform is elkaar leren kennen. Daarom sluiten w
 e af met een netwerkborrel. Dit deel wil je natuurlijk niet missen.\nAanme
 lden\nAls leden van het platform hebben jullie voorrang bij aanmelden. Op 
 28 februari sturen we een algemene uitnodiging uit via onze kanalen. Vol =
  vol. Wees er dus op tijd bij. Aanmelden kan via deze aanmeldlink. Wil je
  je afmelden als je toch niet komt?\nWe zien jullie graag op 29 maart! Vra
 gen over het programma of over de middag? Stuur dan gerust een mailtje via
  onze website.\nDeelname is kosteloos. Direct aanmelden.\n\nPlatform Klim
 aat &amp\; Erfgoed\nwww.klimaatenerfgoed.nl\nHet platform Klimaat &amp\; E
 rfgoed is een onafhankelijke stichting zonder winstoogmerk met ANBI-status
 .
LOCATION:Rijksdienst voor het Cultureel Erfgoed\, Smallepad 5\, Amersfoort\
 , Utrecht\, 3811 MG\, Nederland
X-APPLE-STRUCTURED-LOCATION;VALUE=URI;X-ADDRESS=Smallepad 5\, Amersfoort\, 
 Utrecht\, 3811 MG\, Nederland;X-APPLE-RADIUS=100;X-TITLE=Rijksdienst voor 
 het Cultureel Erfgoed:geo:0,0
END:VEVENT
BEGIN:VTIMEZONE
TZID:Europe/Amsterdam
X-LIC-LOCATION:Europe/Amsterdam
BEGIN:DAYLIGHT
DTSTART:20230326T030000
TZOFFSETFROM:+0100
TZOFFSETTO:+0200
TZNAME:CEST
END:DAYLIGHT
END:VTIMEZONE
END:VCALENDAR