BEGIN:VCALENDAR
VERSION:2.0
PRODID:-//wp-events-plugin.com//7.2.3.1//EN
TZID:Europe/Amsterdam
X-WR-TIMEZONE:Europe/Amsterdam
BEGIN:VEVENT
UID:1-314@monumentengemeenten.nl
DTSTART;TZID=Europe/Amsterdam:20230411T100000
DTEND;TZID=Europe/Amsterdam:20230411T163000
DTSTAMP:20230309T164536Z
URL:https://monumentengemeenten.nl/events/post-65-participatie-platform-po
 st-65/
SUMMARY:Post 65 & Participatie - Platform Post 65
DESCRIPTION:\n\n\n\n\n\nOp dinsdag 11 april start het nieuwe Platform Post 
 65 met een bijeenkomst over het thema Post 65 en participatie. Het Platfor
 m is bedoeld als een groeiend netwerk waarin verschillende overheden en be
 langenorganisaties de komende jaren hun kennis over Post 65 erfgoed met el
 kaar kunnen delen. Regelmatig volgen er fysieke bijeenkomsten op uitzonder
 lijke Post 65 locaties.\n\nDe bijeenkomst vindt plaats in het provinciehui
 s van Noord-Brabant in ’s-Hertogenbosch.\n\nSamen met deze gemeente star
 ten we met een facultatief ochtendprogramma bestaande uit een rondleiding 
 langs verschillend Post 65 erfgoed in ’s-Hertogenbosch\, waaronder een b
 ezoek aan het gemeentelijke monument het Cementrum. Tussen ochtend- en mi
 ddagprogramma wordt een (vegetarische) lunch aangeboden.\n\nIn de middag k
 omen we bijeen in het provinciehuis. De gemeenten Zoetermeer en Apeldoorn
  delen hun ervaring over participatie met Post 65 erfgoed: twee verschille
 nde aanpakken die inspiratie geven en vragen oproepen. We gaan met elkaar 
 in gesprek over hoe Post 65 erfgoed te waarderen. Het eerste exemplaar van
  de RCE handreiking Borging Post 65 wordt overhandigd aan de acht deelneme
 nde pilot gemeenten. Tenslotte zien we tijdens de rondleiding in het provi
 nciehuis voorbeelden van renovatie en het verduurzamen van dit jaren 70 ge
 bouw.\n\nAan het einde van het inhoudelijke programma is het mogelijk nog 
 deel te nemen aan een rondleiding door het Provinciehuis.\n\n\n\n\n\n\n\n\
 n\n\n\n\n\n\nProgramma en meer informatie\n\n\n\n\n\n\n\n\n\n\n\n\n\n\n\n\
 nDirect aanmelden\n\n\n\n\n\n\n\n\n\n\n\n\n\n\n
LOCATION:Provinciehuis Noord-Brabant\, Brabantlaan 1\, 's-Hertogenbosch\, N
 oord-Brabant\, 5216 TV\, Nederland
X-APPLE-STRUCTURED-LOCATION;VALUE=URI;X-ADDRESS=Brabantlaan 1\, 's-Hertogen
 bosch\, Noord-Brabant\, 5216 TV\, Nederland;X-APPLE-RADIUS=100;X-TITLE=Pro
 vinciehuis Noord-Brabant:geo:0,0
END:VEVENT
BEGIN:VTIMEZONE
TZID:Europe/Amsterdam
X-LIC-LOCATION:Europe/Amsterdam
BEGIN:DAYLIGHT
DTSTART:20230326T030000
TZOFFSETFROM:+0100
TZOFFSETTO:+0200
TZNAME:CEST
END:DAYLIGHT
END:VTIMEZONE
END:VCALENDAR